BEGIN:VCALENDAR
VERSION:2.0
PRODID:-//School Integrated Pest Management - ECPv6.15.20//NONSGML v1.0//EN
CALSCALE:GREGORIAN
METHOD:PUBLISH
X-WR-CALNAME:School Integrated Pest Management
X-ORIGINAL-URL:https://schoolipm.tamu.edu
X-WR-CALDESC:Events for School Integrated Pest Management
REFRESH-INTERVAL;VALUE=DURATION:PT1H
X-Robots-Tag:noindex
X-PUBLISHED-TTL:PT1H
BEGIN:VTIMEZONE
TZID:America/Chicago
BEGIN:DAYLIGHT
TZOFFSETFROM:-0600
TZOFFSETTO:-0500
TZNAME:CDT
DTSTART:20160313T080000
END:DAYLIGHT
BEGIN:STANDARD
TZOFFSETFROM:-0500
TZOFFSETTO:-0600
TZNAME:CST
DTSTART:20161106T070000
END:STANDARD
BEGIN:DAYLIGHT
TZOFFSETFROM:-0600
TZOFFSETTO:-0500
TZNAME:CDT
DTSTART:20170312T080000
END:DAYLIGHT
BEGIN:STANDARD
TZOFFSETFROM:-0500
TZOFFSETTO:-0600
TZNAME:CST
DTSTART:20171105T070000
END:STANDARD
BEGIN:DAYLIGHT
TZOFFSETFROM:-0600
TZOFFSETTO:-0500
TZNAME:CDT
DTSTART:20180311T080000
END:DAYLIGHT
BEGIN:STANDARD
TZOFFSETFROM:-0500
TZOFFSETTO:-0600
TZNAME:CST
DTSTART:20181104T070000
END:STANDARD
END:VTIMEZONE
BEGIN:VEVENT
DTSTART;TZID=America/Chicago:20171206T080000
DTEND;TZID=America/Chicago:20171206T150000
DTSTAMP:20260424T012100
CREATED:20170717T150047Z
LAST-MODIFIED:20170717T150047Z
UID:3022-1512547200-1512572400@schoolipm.tamu.edu
SUMMARY:IPM Coordinator Training by  TASB (Flour Bluff ISD)
DESCRIPTION:This course meets the requirements outlined by the Texas Structural Pest Control Services for training a school district’s Integrated Pest Management (IPM) Coordinator. Topics include regulatory requirements\, administration of IPM in school pest control programs\, principles of IPM\, and pesticide safety practices.
URL:https://schoolipm.tamu.edu/event/ipm-coordinator-training-by-tasb-flour-bluff-isd/
LOCATION:Flour Bluff ISD\, Corpus Christ\, TX\, United States
END:VEVENT
END:VCALENDAR